BEGIN:VCALENDAR
VERSION:2.0
BEGIN:VEVENT
URL:https://gopbroward.org/index.php/events/viewevent/10-test-event 
DTSTART:20240116T000000
DTEND:20240117T001500
SUMMARY:Test Event
DESCRIPTION:Long desc
LOCATION:701 E Broward Blvd, Fort Lauderdale, FL 33301
END:VEVENT
END:VCALENDAR